BEGIN:VCALENDAR
VERSION:2.0
PRODID:-//eventon.com NONSGML v1.0//EN
CALSCALE:GREGORIAN
METHOD:PUBLISH
BEGIN:VEVENT
UID:69e74564c0c59
DTSTAMP:20260421T093740Z
DTSTART:20250324
DTEND:20250325
LOCATION:
SUMMARY:Beat the Minimum
DESCRIPTION:Any rider who surpasses the $1\, 000 fundraising minimum during
  the promotion period will be entered into a raffle for a special prize (TB
 D)\nhttps://www.mfeast.org/events/beat-the-minimum/
URL:https://www.mfeast.org/events/beat-the-minimum/
END:VEVENT
END:VCALENDAR